BEGIN:VCALENDAR
VERSION:2.0
PRODID:-//Helantec | Gasfüllung sichtbar besser//NONSGML kigkonsult.se iCal
 creator 2.30.10//
CALSCALE:GREGORIAN
METHOD:PUBLISH
UID:5c8baf06-b490-44f8-bc69-c1e59c79fe80
X-WR-CALNAME:iCagenda
X-WR-CALDESC:Event Management Extension for Joomla!
X-WR-RELCALID:3E26604A-50F4-4449-8B3E-E4F4932D05B5
X-WR-TIMEZONE:UTC
BEGIN:VTIMEZONE
TZID:UTC
END:VTIMEZONE
BEGIN:VEVENT
UID:26906327-ae9f-4ee6-9531-f34c9e8c4136
DTSTAMP:20260424T124815Z
CATEGORIES:Messen
CLASS:PUBLIC
DESCRIPTION;ALTREP="CID:<FFFF__=0ABBE548DFE235B58f9e8a93d@coffeebean.com>":
 Die glasstec ist der zentrale Treffpunkt der internationalen Glasbranche. 
 Hier erleben Aussteller und Besucher Innovationen 'made of glass' und erha
 lten Einblicke in die wichtigsten Zukunftstrends. Als Weltleitmesse setzt 
 die glasstec Maßstäbe in Technologie\, Märkten und Geschäftsmodellen und b
 ietet die einzigartige Kombination aus hochkarätiger Fachmesse und wegweis
 ender Konferenz.
DTSTART:20261020T104100Z
DTEND:20261023T000000Z
GEO:00;0
LOCATION:Messe Düsseldorf
ORGANIZER:
SEQUENCE:1
SUMMARY:Glasstec 2026
TRANSP:OPAQUE
URL:https://www.helantec.de/index.php/de/component/icagenda/10-glasstec-202
 6?Itemid=123
END:VEVENT
END:VCALENDAR
