BEGIN:VCALENDAR
VERSION:2.0
PRODID:-//Helantec | Gasfüllung sichtbar besser//NONSGML kigkonsult.se iCal
 creator 2.30.10//
CALSCALE:GREGORIAN
METHOD:PUBLISH
UID:0d1dd881-5719-4a7e-80f3-885bb1efea4b
X-WR-CALNAME:iCagenda
X-WR-CALDESC:Event Management Extension for Joomla!
X-WR-RELCALID:3E26604A-50F4-4449-8B3E-E4F4932D05B5
X-WR-TIMEZONE:UTC
BEGIN:VTIMEZONE
TZID:UTC
END:VTIMEZONE
BEGIN:VEVENT
UID:4db078ed-c87b-497f-a7ec-6ccabe2f4248
DTSTAMP:20260422T171344Z
CATEGORIES:Messen
CLASS:PUBLIC
DESCRIPTION;ALTREP="CID:<FFFF__=0ABBE548DFE235B58f9e8a93d@coffeebean.com>":
 Die glasstec ist die Weltleitmesse der Glasbranche mit 1.276 Ausstellern a
 us 50 Ländern. Ob Glasherstellung\, effektive Verarbeitungstechnologien\, 
 neue Glasprodukte oder innovative handwerkliche Be- und Verarbeitung. Das 
 Spektrum ist einzigartig. Auch in 2020 erwarten Sie hier wegweisende Innov
 ationen\, Produkte und Entwicklungen. Seien Sie dabei!
DTSTART:20210615T000000Z
DTEND:20210618T000000Z
GEO:00;0
LOCATION:Messe Düsseldorf
ORGANIZER:
SEQUENCE:1
SUMMARY:GLASSTEC 2021
TRANSP:OPAQUE
URL:https://www.helantec.de/index.php/de/component/icagenda/2-glasstec-2021
 ?Itemid=123
END:VEVENT
END:VCALENDAR
