BEGIN:VCALENDAR
VERSION:2.0
PRODID:-//Helantec | Gasfüllung sichtbar besser//NONSGML kigkonsult.se iCal
 creator 2.30.10//
CALSCALE:GREGORIAN
METHOD:PUBLISH
UID:7df55baf-d4f7-47c0-9064-3d352ce96656
X-WR-CALNAME:iCagenda
X-WR-CALDESC:Event Management Extension for Joomla!
X-WR-RELCALID:3E26604A-50F4-4449-8B3E-E4F4932D05B5
X-WR-TIMEZONE:UTC
BEGIN:VTIMEZONE
TZID:UTC
END:VTIMEZONE
BEGIN:VEVENT
UID:9d3131eb-0cdd-4727-b3b7-8f54b80f7d96
DTSTAMP:20260423T024120Z
CATEGORIES:Messen
CLASS:PUBLIC
DESCRIPTION:
DTSTART:20191001T000000Z
DTEND:20191004T000000Z
GEO:00;0
LOCATION:Milano\, Rho
ORGANIZER:
SEQUENCE:1
SUMMARY:Vitrum
TRANSP:OPAQUE
URL:https://www.helantec.de/index.php/de/component/icagenda/3-vitrum?Itemid
 =123
END:VEVENT
END:VCALENDAR
