BEGIN:VCALENDAR
VERSION:2.0
PRODID:-//Helantec | Gasfüllung sichtbar besser//NONSGML kigkonsult.se iCal
 creator 2.30.10//
CALSCALE:GREGORIAN
METHOD:PUBLISH
UID:e1ed59f7-c607-4118-9aac-4b78411b79a9
X-WR-CALNAME:iCagenda
X-WR-CALDESC:Event Management Extension for Joomla!
X-WR-RELCALID:3E26604A-50F4-4449-8B3E-E4F4932D05B5
X-WR-TIMEZONE:UTC
BEGIN:VTIMEZONE
TZID:UTC
END:VTIMEZONE
BEGIN:VEVENT
UID:fd9772d7-939d-4e74-8dc0-04e9de5a539f
DTSTAMP:20260422T204254Z
CATEGORIES:Messen
CLASS:PUBLIC
DESCRIPTION;ALTREP="CID:<FFFF__=0ABBE548DFE235B58f9e8a93d@coffeebean.com>":
 GLASS PERFORMANCE\nHot Spot für den Erfolg\n\n\nDie glasstec setzt in jede
 r Hinsicht neue Maßstäbe. Erleben Sie Innovationskraft made of glass mit F
 okus auf die Top-Wachstumsmärkte der Branche. Lassen Sie sich inspirieren 
 von den Angeboten und Entwicklungen der führenden Unternehmen weltweit. Hi
 er werden die Trends gesetzt\, die die Glas-Zukunft bewegen. Als Branchent
 reffpunkt und Schaufenster für technische Entwicklungen ist die glasstec s
 eit Jahrzehnten führend. Die einzigartige Präsentation gepaart mit dem neu
 en\, wegweisenden Konferenzkonzept in der&nbsp\;glasstec conference&nbsp\;
 macht die Messe zum absoluten Hot Spot. Nutzen Sie das Erfolgspotenzial.\n
 \n
DTSTART:20220920T000000Z
DTEND:20220923T000000Z
GEO:00;0
LOCATION:Düsseldorf
ORGANIZER:
SEQUENCE:1
SUMMARY:glasstec
TRANSP:OPAQUE
URL:https://www.helantec.de/index.php/de/component/icagenda/5-glasstec?Item
 id=123
END:VEVENT
END:VCALENDAR
