BEGIN:VCALENDAR
VERSION:2.0
PRODID:-//Helantec | Gasfüllung sichtbar besser//NONSGML kigkonsult.se iCal
 creator 2.30.10//
CALSCALE:GREGORIAN
METHOD:PUBLISH
UID:397a570f-07aa-4eb9-a074-88b97dadff18
X-WR-CALNAME:iCagenda
X-WR-CALDESC:Event Management Extension for Joomla!
X-WR-RELCALID:3E26604A-50F4-4449-8B3E-E4F4932D05B5
X-WR-TIMEZONE:UTC
BEGIN:VTIMEZONE
TZID:UTC
END:VTIMEZONE
BEGIN:VEVENT
UID:9ea3f059-4f42-4172-b787-5d0a204d5a35
DTSTAMP:20260422T234754Z
CATEGORIES:Messen
CLASS:PUBLIC
DESCRIPTION;ALTREP="CID:<FFFF__=0ABBE548DFE235B58f9e8a93d@coffeebean.com>":
 Aller guten Dinge sind drei – in diesem Sinne starten wir den nunmehr drit
 ten Versuch\, unseren&nbsp\;BF/GGF GLASKONGRESS&nbsp\;in Berlin als Präsen
 zveranstaltung stattfinden zu lassen. Wir würden uns freuen\, Sie am 06. u
 nd 07. Oktober 2021 wieder live und in Farbe in Berlin begrüßen zu dürfen.
DTSTART:20211006T000000Z
DTEND:20211007T000000Z
GEO:00;0
LOCATION:Berlin\, Hotel Palace
ORGANIZER:
SEQUENCE:1
SUMMARY:10. Glaskongress 2021
TRANSP:OPAQUE
URL:https://www.helantec.de/index.php/de/component/icagenda/6-10-glaskongre
 ss-2021?Itemid=123
END:VEVENT
END:VCALENDAR
