BEGIN:VCALENDAR
VERSION:2.0
PRODID:-//Helantec | Gasfüllung sichtbar besser//NONSGML kigkonsult.se iCal
 creator 2.30.10//
CALSCALE:GREGORIAN
METHOD:PUBLISH
UID:00450c26-d0ab-4e28-997f-810b00e7986b
X-WR-CALNAME:iCagenda
X-WR-CALDESC:Event Management Extension for Joomla!
X-WR-RELCALID:3E26604A-50F4-4449-8B3E-E4F4932D05B5
X-WR-TIMEZONE:UTC
BEGIN:VTIMEZONE
TZID:UTC
END:VTIMEZONE
BEGIN:VEVENT
UID:c25d5233-9e19-490e-8797-2a03b10de2b2
DTSTAMP:20260422T185202Z
CATEGORIES:Messen
CLASS:PUBLIC
DESCRIPTION;ALTREP="CID:<FFFF__=0ABBE548DFE235B58f9e8a93d@coffeebean.com>":
 Die glasstec setzt in jeder Hinsicht neue Maßstäbe. Erleben Sie Innovation
 skraft made of glass mit Fokus auf die Top-Wachstumsmärkte der Branche. La
 ssen Sie sich inspirieren von den Angeboten und Entwicklungen der führende
 n Unternehmen weltweit. Hier werden die Trends gesetzt\, die die Glas-Zuku
 nft bewegen. Als Branchentreffpunkt und Schaufenster für technische Entwic
 klungen ist die glasstec seit Jahrzehnten führend. Die einzigartige Präsen
 tation gepaart mit dem neuen\, wegweisenden Konferenzkonzept in der&nbsp\;
 glasstec conference&nbsp\;macht die Messe zum absoluten Hot Spot. Nutzen S
 ie das Erfolgspotenzial.
DTSTART:20241022T100500Z
DTEND:20241025T100500Z
GEO:00;0
LOCATION:Messe Düsseldorf
ORGANIZER:
SEQUENCE:1
SUMMARY:Glasstec 2024
TRANSP:OPAQUE
URL:https://www.helantec.de/index.php/de/component/icagenda/7-glasstec-2024
 ?Itemid=123
END:VEVENT
END:VCALENDAR
