BEGIN:VCALENDAR
VERSION:2.0
PRODID:-//Helantec | Gasfüllung sichtbar besser//NONSGML kigkonsult.se iCal
 creator 2.30.10//
CALSCALE:GREGORIAN
METHOD:PUBLISH
UID:8239df16-81df-47f7-98ce-1c27f8f0dadd
X-WR-CALNAME:iCagenda
X-WR-CALDESC:Event Management Extension for Joomla!
X-WR-RELCALID:3E26604A-50F4-4449-8B3E-E4F4932D05B5
X-WR-TIMEZONE:UTC
BEGIN:VTIMEZONE
TZID:UTC
END:VTIMEZONE
BEGIN:VEVENT
UID:60faf88b-2f0c-49b1-92a4-91fb1180ad30
DTSTAMP:20260422T171620Z
CATEGORIES:Messen
CLASS:PUBLIC
DESCRIPTION;ALTREP="CID:<FFFF__=0ABBE548DFE235B58f9e8a93d@coffeebean.com>":
 Produced by the&nbsp\;National Glass Association&nbsp\;(NGA)\, GlassBuild 
 America is where buyers and sellers meet and learn to solve their most pre
 ssing challenges. The action-packed event also features live Exhibitor&nbs
 p\;Demos\,&nbsp\;educational sessions\, the annual&nbsp\;Glazing Executive
 s Forum&nbsp\;and is&nbsp\;supported by NGA’s official publications—Glass 
 Magazine&nbsp\;and&nbsp\;Window + Door&nbsp\;magazine and association spon
 sor\, the Fenestration and Glazing Industry Alliance (FGIA).
DTSTART:20240930T101600Z
DTEND:20241002T101600Z
GEO:00;0
LOCATION:Dallas\, TX
ORGANIZER:
SEQUENCE:1
SUMMARY:GlassBuild America
TRANSP:OPAQUE
URL:https://www.helantec.de/index.php/de/component/icagenda/8-glassbuild-am
 erica?Itemid=123
END:VEVENT
END:VCALENDAR
